BEGIN:VCALENDAR
VERSION:2.0
PRODID:-//Color comunitaria - ECPv6.9.1//NONSGML v1.0//EN
CALSCALE:GREGORIAN
METHOD:PUBLISH
X-ORIGINAL-URL:https://colorcomunitaria.org
X-WR-CALDESC:Eventos para Color comunitaria
REFRESH-INTERVAL;VALUE=DURATION:PT1H
X-Robots-Tag:noindex
X-PUBLISHED-TTL:PT1H
BEGIN:VTIMEZONE
TZID:Europe/Madrid
BEGIN:DAYLIGHT
TZOFFSETFROM:+0100
TZOFFSETTO:+0200
TZNAME:CEST
DTSTART:20280326T010000
END:DAYLIGHT
BEGIN:STANDARD
TZOFFSETFROM:+0200
TZOFFSETTO:+0100
TZNAME:CET
DTSTART:20281029T010000
END:STANDARD
END:VTIMEZONE
BEGIN:VEVENT
DTSTART;TZID=Europe/Madrid:20280605T010000
DTEND;TZID=Europe/Madrid:20280605T020000
DTSTAMP:20260424T005250
CREATED:20250216T173544Z
LAST-MODIFIED:20250216T173632Z
UID:10022428-1843779600-1843783200@colorcomunitaria.org
SUMMARY:Informativo De este a Oeste (OLA) (R)
DESCRIPTION:
URL:https://colorcomunitaria.org/evento/informativo-de-este-a-oeste-ola-r/2028-06-05/
END:VEVENT
BEGIN:VEVENT
DTSTART;TZID=Europe/Madrid:20280605T020000
DTEND;TZID=Europe/Madrid:20280605T040000
DTSTAMP:20260424T005251
CREATED:20250216T180923Z
LAST-MODIFIED:20250216T181107Z
UID:10033997-1843783200-1843790400@colorcomunitaria.org
SUMMARY:Radioteatros Bicicleta Atómica y Audiodrama Colectivo
DESCRIPTION:
URL:https://colorcomunitaria.org/evento/radioteatros-bicicleta-atomica-y-audiodrama-colectivo/2028-06-05/
END:VEVENT
BEGIN:VEVENT
DTSTART;TZID=Europe/Madrid:20280605T083000
DTEND;TZID=Europe/Madrid:20280605T100000
DTSTAMP:20260424T005251
CREATED:20250214T170834Z
LAST-MODIFIED:20250214T170906Z
UID:10011589-1843806600-1843812000@colorcomunitaria.org
SUMMARY:Informativo De este a Oeste (OLA)
DESCRIPTION:
URL:https://colorcomunitaria.org/evento/informativo-de-este-a-oeste-ola/2028-06-05/
END:VEVENT
BEGIN:VEVENT
DTSTART;TZID=Europe/Madrid:20280605T100000
DTEND;TZID=Europe/Madrid:20280605T100500
DTSTAMP:20260424T005251
CREATED:20250214T171100Z
LAST-MODIFIED:20250214T171102Z
UID:10012902-1843812000-1843812300@colorcomunitaria.org
SUMMARY:Boletín informativo OLA
DESCRIPTION:
URL:https://colorcomunitaria.org/evento/boletin-informativo-ola-2/2028-06-05/
END:VEVENT
BEGIN:VEVENT
DTSTART;TZID=Europe/Madrid:20280605T100500
DTEND;TZID=Europe/Madrid:20280605T103500
DTSTAMP:20260424T005251
CREATED:20250121T155655Z
LAST-MODIFIED:20250214T162406Z
UID:10008714-1843812300-1843814100@colorcomunitaria.org
SUMMARY:Cerca de tu casa
DESCRIPTION:Magacín sobre lo que pasa en Palma Palmilla. Colabora Junta de Distrito 5 Palma Palmilla del Ayuntamiento  de Málaga.
URL:https://colorcomunitaria.org/evento/cerca-de-tu-casa/2028-06-05/
CATEGORIES:Palma Palmilla
ATTACH;FMTTYPE=image/jpeg:https://colorcomunitaria.org/wp-content/uploads/2025/01/imagen-loco-cdtc-cerca-de-tu-casa-grande-e1737380447434.jpg
END:VEVENT
BEGIN:VEVENT
DTSTART;TZID=Europe/Madrid:20280605T103500
DTEND;TZID=Europe/Madrid:20280605T104500
DTSTAMP:20260424T005251
CREATED:20250216T172831Z
LAST-MODIFIED:20250216T173153Z
UID:10015962-1843814100-1843814700@colorcomunitaria.org
SUMMARY:Cerca de tu casa - Málaga
DESCRIPTION:
URL:https://colorcomunitaria.org/evento/cerca-de-tu-casa-edicion-malaga/2028-06-05/
END:VEVENT
BEGIN:VEVENT
DTSTART;TZID=Europe/Madrid:20280605T110500
DTEND;TZID=Europe/Madrid:20280605T120000
DTSTAMP:20260424T005251
CREATED:20250214T162718Z
LAST-MODIFIED:20250214T162800Z
UID:10009854-1843815900-1843819200@colorcomunitaria.org
SUMMARY:Con otra mirada
DESCRIPTION:
URL:https://colorcomunitaria.org/evento/con-otra-mirada/2028-06-05/
END:VEVENT
BEGIN:VEVENT
DTSTART;TZID=Europe/Madrid:20280605T120500
DTEND;TZID=Europe/Madrid:20280605T130000
DTSTAMP:20260424T005251
CREATED:20250214T165409Z
LAST-MODIFIED:20250214T165409Z
UID:10010115-1843819500-1843822800@colorcomunitaria.org
SUMMARY:Sabemos lo que queremos
DESCRIPTION:
URL:https://colorcomunitaria.org/evento/sabemos-lo-que-queremos/2028-06-05/
END:VEVENT
BEGIN:VEVENT
DTSTART;TZID=Europe/Madrid:20280605T130000
DTEND;TZID=Europe/Madrid:20280605T133000
DTSTAMP:20260424T005251
CREATED:20250216T173355Z
LAST-MODIFIED:20250216T173355Z
UID:10018236-1843822800-1843824600@colorcomunitaria.org
SUMMARY:Informativo De este a Oeste (OLA)
DESCRIPTION:
URL:https://colorcomunitaria.org/evento/informativo-de-este-a-oeste-ola-2/2028-06-05/
END:VEVENT
BEGIN:VEVENT
DTSTART;TZID=Europe/Madrid:20280605T160000
DTEND;TZID=Europe/Madrid:20280605T163000
DTSTAMP:20260424T005251
CREATED:20250216T173851Z
LAST-MODIFIED:20250216T173851Z
UID:10024989-1843833600-1843835400@colorcomunitaria.org
SUMMARY:Cerca de tu casa (R)
DESCRIPTION:Magacín sobre lo que pasa en Palma Palmilla. Colabora Junta de Distrito 5 Palma Palmilla del Ayuntamiento  de Málaga.
URL:https://colorcomunitaria.org/evento/cerca-de-tu-casa-r/2028-06-05/
CATEGORIES:Palma Palmilla
ATTACH;FMTTYPE=image/jpeg:https://colorcomunitaria.org/wp-content/uploads/2025/01/imagen-loco-cdtc-cerca-de-tu-casa-grande-e1737380447434.jpg
END:VEVENT
BEGIN:VEVENT
DTSTART;TZID=Europe/Madrid:20280605T163000
DTEND;TZID=Europe/Madrid:20280605T170000
DTSTAMP:20260424T005251
CREATED:20250216T174046Z
LAST-MODIFIED:20250216T174046Z
UID:10027624-1843835400-1843837200@colorcomunitaria.org
SUMMARY:Aprender con onda
DESCRIPTION:
URL:https://colorcomunitaria.org/evento/aprender-con-onda/2028-06-05/
END:VEVENT
BEGIN:VEVENT
DTSTART;TZID=Europe/Madrid:20280605T190000
DTEND;TZID=Europe/Madrid:20280605T200000
DTSTAMP:20260424T005251
CREATED:20250216T173505Z
LAST-MODIFIED:20250216T173505Z
UID:10020332-1843844400-1843848000@colorcomunitaria.org
SUMMARY:Informativo De este a Oeste (OLA)
DESCRIPTION:
URL:https://colorcomunitaria.org/evento/informativo-de-este-a-oeste-ola-3/2028-06-05/
END:VEVENT
BEGIN:VEVENT
DTSTART;TZID=Europe/Madrid:20280605T210000
DTEND;TZID=Europe/Madrid:20280605T220000
DTSTAMP:20260424T005251
CREATED:20250216T184112Z
LAST-MODIFIED:20250216T184112Z
UID:10039355-1843851600-1843855200@colorcomunitaria.org
SUMMARY:De mil colores
DESCRIPTION:
URL:https://colorcomunitaria.org/evento/de-mil-colores/2028-06-05/
END:VEVENT
BEGIN:VEVENT
DTSTART;TZID=Europe/Madrid:20280606T010000
DTEND;TZID=Europe/Madrid:20280606T020000
DTSTAMP:20260424T005251
CREATED:20250216T173544Z
LAST-MODIFIED:20250216T173632Z
UID:10022429-1843866000-1843869600@colorcomunitaria.org
SUMMARY:Informativo De este a Oeste (OLA) (R)
DESCRIPTION:
URL:https://colorcomunitaria.org/evento/informativo-de-este-a-oeste-ola-r/2028-06-06/
END:VEVENT
BEGIN:VEVENT
DTSTART;TZID=Europe/Madrid:20280606T020000
DTEND;TZID=Europe/Madrid:20280606T040000
DTSTAMP:20260424T005251
CREATED:20250216T180923Z
LAST-MODIFIED:20250216T181107Z
UID:10033998-1843869600-1843876800@colorcomunitaria.org
SUMMARY:Radioteatros Bicicleta Atómica y Audiodrama Colectivo
DESCRIPTION:
URL:https://colorcomunitaria.org/evento/radioteatros-bicicleta-atomica-y-audiodrama-colectivo/2028-06-06/
END:VEVENT
BEGIN:VEVENT
DTSTART;TZID=Europe/Madrid:20280606T083000
DTEND;TZID=Europe/Madrid:20280606T100000
DTSTAMP:20260424T005251
CREATED:20250214T170834Z
LAST-MODIFIED:20250214T170906Z
UID:10011590-1843893000-1843898400@colorcomunitaria.org
SUMMARY:Informativo De este a Oeste (OLA)
DESCRIPTION:
URL:https://colorcomunitaria.org/evento/informativo-de-este-a-oeste-ola/2028-06-06/
END:VEVENT
BEGIN:VEVENT
DTSTART;TZID=Europe/Madrid:20280606T100000
DTEND;TZID=Europe/Madrid:20280606T100500
DTSTAMP:20260424T005251
CREATED:20250214T171100Z
LAST-MODIFIED:20250214T171102Z
UID:10012903-1843898400-1843898700@colorcomunitaria.org
SUMMARY:Boletín informativo OLA
DESCRIPTION:
URL:https://colorcomunitaria.org/evento/boletin-informativo-ola-2/2028-06-06/
END:VEVENT
BEGIN:VEVENT
DTSTART;TZID=Europe/Madrid:20280606T100500
DTEND;TZID=Europe/Madrid:20280606T103500
DTSTAMP:20260424T005251
CREATED:20250121T155655Z
LAST-MODIFIED:20250214T162406Z
UID:10008715-1843898700-1843900500@colorcomunitaria.org
SUMMARY:Cerca de tu casa
DESCRIPTION:Magacín sobre lo que pasa en Palma Palmilla. Colabora Junta de Distrito 5 Palma Palmilla del Ayuntamiento  de Málaga.
URL:https://colorcomunitaria.org/evento/cerca-de-tu-casa/2028-06-06/
CATEGORIES:Palma Palmilla
ATTACH;FMTTYPE=image/jpeg:https://colorcomunitaria.org/wp-content/uploads/2025/01/imagen-loco-cdtc-cerca-de-tu-casa-grande-e1737380447434.jpg
END:VEVENT
BEGIN:VEVENT
DTSTART;TZID=Europe/Madrid:20280606T103500
DTEND;TZID=Europe/Madrid:20280606T104500
DTSTAMP:20260424T005251
CREATED:20250216T172831Z
LAST-MODIFIED:20250216T173153Z
UID:10015963-1843900500-1843901100@colorcomunitaria.org
SUMMARY:Cerca de tu casa - Málaga
DESCRIPTION:
URL:https://colorcomunitaria.org/evento/cerca-de-tu-casa-edicion-malaga/2028-06-06/
END:VEVENT
BEGIN:VEVENT
DTSTART;TZID=Europe/Madrid:20280606T110500
DTEND;TZID=Europe/Madrid:20280606T123000
DTSTAMP:20260424T005251
CREATED:20250214T165815Z
LAST-MODIFIED:20250214T165815Z
UID:10010377-1843902300-1843907400@colorcomunitaria.org
SUMMARY:La voz de vida
DESCRIPTION:
URL:https://colorcomunitaria.org/evento/la-voz-de-vida/2028-06-06/
END:VEVENT
BEGIN:VEVENT
DTSTART;TZID=Europe/Madrid:20280606T130000
DTEND;TZID=Europe/Madrid:20280606T133000
DTSTAMP:20260424T005251
CREATED:20250216T173355Z
LAST-MODIFIED:20250216T173355Z
UID:10018237-1843909200-1843911000@colorcomunitaria.org
SUMMARY:Informativo De este a Oeste (OLA)
DESCRIPTION:
URL:https://colorcomunitaria.org/evento/informativo-de-este-a-oeste-ola-2/2028-06-06/
END:VEVENT
BEGIN:VEVENT
DTSTART;TZID=Europe/Madrid:20280606T160000
DTEND;TZID=Europe/Madrid:20280606T163000
DTSTAMP:20260424T005251
CREATED:20250216T173851Z
LAST-MODIFIED:20250216T173851Z
UID:10024990-1843920000-1843921800@colorcomunitaria.org
SUMMARY:Cerca de tu casa (R)
DESCRIPTION:Magacín sobre lo que pasa en Palma Palmilla. Colabora Junta de Distrito 5 Palma Palmilla del Ayuntamiento  de Málaga.
URL:https://colorcomunitaria.org/evento/cerca-de-tu-casa-r/2028-06-06/
CATEGORIES:Palma Palmilla
ATTACH;FMTTYPE=image/jpeg:https://colorcomunitaria.org/wp-content/uploads/2025/01/imagen-loco-cdtc-cerca-de-tu-casa-grande-e1737380447434.jpg
END:VEVENT
BEGIN:VEVENT
DTSTART;TZID=Europe/Madrid:20280606T163000
DTEND;TZID=Europe/Madrid:20280606T170000
DTSTAMP:20260424T005251
CREATED:20250216T174046Z
LAST-MODIFIED:20250216T174046Z
UID:10027625-1843921800-1843923600@colorcomunitaria.org
SUMMARY:Aprender con onda
DESCRIPTION:
URL:https://colorcomunitaria.org/evento/aprender-con-onda/2028-06-06/
END:VEVENT
BEGIN:VEVENT
DTSTART;TZID=Europe/Madrid:20280606T190000
DTEND;TZID=Europe/Madrid:20280606T200000
DTSTAMP:20260424T005251
CREATED:20250216T173505Z
LAST-MODIFIED:20250216T173505Z
UID:10020333-1843930800-1843934400@colorcomunitaria.org
SUMMARY:Informativo De este a Oeste (OLA)
DESCRIPTION:
URL:https://colorcomunitaria.org/evento/informativo-de-este-a-oeste-ola-3/2028-06-06/
END:VEVENT
BEGIN:VEVENT
DTSTART;TZID=Europe/Madrid:20280606T200000
DTEND;TZID=Europe/Madrid:20280606T210000
DTSTAMP:20260424T005251
CREATED:20250214T172034Z
LAST-MODIFIED:20250214T172034Z
UID:10013787-1843934400-1843938000@colorcomunitaria.org
SUMMARY:Puentes
DESCRIPTION:
URL:https://colorcomunitaria.org/evento/puentes/2028-06-06/
END:VEVENT
BEGIN:VEVENT
DTSTART;TZID=Europe/Madrid:20280606T210000
DTEND;TZID=Europe/Madrid:20280606T220000
DTSTAMP:20260424T005251
CREATED:20250214T172202Z
LAST-MODIFIED:20250214T172202Z
UID:10014049-1843938000-1843941600@colorcomunitaria.org
SUMMARY:La voz de los sin voz
DESCRIPTION:
URL:https://colorcomunitaria.org/evento/la-voz-de-los-sin-voz/2028-06-06/
END:VEVENT
BEGIN:VEVENT
DTSTART;TZID=Europe/Madrid:20280607T000000
DTEND;TZID=Europe/Madrid:20280607T010000
DTSTAMP:20260424T005251
CREATED:20250216T175230Z
LAST-MODIFIED:20250216T175230Z
UID:10029550-1843948800-1843952400@colorcomunitaria.org
SUMMARY:Málaga Cultura Viva (R)
DESCRIPTION:
URL:https://colorcomunitaria.org/evento/malaga-cultura-viva-r/2028-06-07/
END:VEVENT
BEGIN:VEVENT
DTSTART;TZID=Europe/Madrid:20280607T010000
DTEND;TZID=Europe/Madrid:20280607T020000
DTSTAMP:20260424T005251
CREATED:20250216T173544Z
LAST-MODIFIED:20250216T173632Z
UID:10022430-1843952400-1843956000@colorcomunitaria.org
SUMMARY:Informativo De este a Oeste (OLA) (R)
DESCRIPTION:
URL:https://colorcomunitaria.org/evento/informativo-de-este-a-oeste-ola-r/2028-06-07/
END:VEVENT
BEGIN:VEVENT
DTSTART;TZID=Europe/Madrid:20280607T020000
DTEND;TZID=Europe/Madrid:20280607T040000
DTSTAMP:20260424T005251
CREATED:20250216T180923Z
LAST-MODIFIED:20250216T181107Z
UID:10033999-1843956000-1843963200@colorcomunitaria.org
SUMMARY:Radioteatros Bicicleta Atómica y Audiodrama Colectivo
DESCRIPTION:
URL:https://colorcomunitaria.org/evento/radioteatros-bicicleta-atomica-y-audiodrama-colectivo/2028-06-07/
END:VEVENT
BEGIN:VEVENT
DTSTART;TZID=Europe/Madrid:20280607T083000
DTEND;TZID=Europe/Madrid:20280607T100000
DTSTAMP:20260424T005251
CREATED:20250214T170834Z
LAST-MODIFIED:20250214T170906Z
UID:10011591-1843979400-1843984800@colorcomunitaria.org
SUMMARY:Informativo De este a Oeste (OLA)
DESCRIPTION:
URL:https://colorcomunitaria.org/evento/informativo-de-este-a-oeste-ola/2028-06-07/
END:VEVENT
END:VCALENDAR