BEGIN:VCALENDAR
VERSION:2.0
PRODID:-//Color comunitaria - ECPv6.9.1//NONSGML v1.0//EN
CALSCALE:GREGORIAN
METHOD:PUBLISH
X-ORIGINAL-URL:https://colorcomunitaria.org
X-WR-CALDESC:Eventos para Color comunitaria
REFRESH-INTERVAL;VALUE=DURATION:PT1H
X-Robots-Tag:noindex
X-PUBLISHED-TTL:PT1H
BEGIN:VTIMEZONE
TZID:Europe/Madrid
BEGIN:DAYLIGHT
TZOFFSETFROM:+0100
TZOFFSETTO:+0200
TZNAME:CEST
DTSTART:20280326T010000
END:DAYLIGHT
BEGIN:STANDARD
TZOFFSETFROM:+0200
TZOFFSETTO:+0100
TZNAME:CET
DTSTART:20281029T010000
END:STANDARD
END:VTIMEZONE
BEGIN:VEVENT
DTSTART;TZID=Europe/Madrid:20280612T010000
DTEND;TZID=Europe/Madrid:20280612T020000
DTSTAMP:20260423T231952
CREATED:20250216T173544Z
LAST-MODIFIED:20250216T173632Z
UID:10022432-1844384400-1844388000@colorcomunitaria.org
SUMMARY:Informativo De este a Oeste (OLA) (R)
DESCRIPTION:
URL:https://colorcomunitaria.org/evento/informativo-de-este-a-oeste-ola-r/2028-06-12/
END:VEVENT
BEGIN:VEVENT
DTSTART;TZID=Europe/Madrid:20280612T020000
DTEND;TZID=Europe/Madrid:20280612T040000
DTSTAMP:20260423T231952
CREATED:20250216T180923Z
LAST-MODIFIED:20250216T181107Z
UID:10034004-1844388000-1844395200@colorcomunitaria.org
SUMMARY:Radioteatros Bicicleta Atómica y Audiodrama Colectivo
DESCRIPTION:
URL:https://colorcomunitaria.org/evento/radioteatros-bicicleta-atomica-y-audiodrama-colectivo/2028-06-12/
END:VEVENT
BEGIN:VEVENT
DTSTART;TZID=Europe/Madrid:20280612T083000
DTEND;TZID=Europe/Madrid:20280612T100000
DTSTAMP:20260423T231952
CREATED:20250214T170834Z
LAST-MODIFIED:20250214T170906Z
UID:10011594-1844411400-1844416800@colorcomunitaria.org
SUMMARY:Informativo De este a Oeste (OLA)
DESCRIPTION:
URL:https://colorcomunitaria.org/evento/informativo-de-este-a-oeste-ola/2028-06-12/
END:VEVENT
BEGIN:VEVENT
DTSTART;TZID=Europe/Madrid:20280612T100000
DTEND;TZID=Europe/Madrid:20280612T100500
DTSTAMP:20260423T231952
CREATED:20250214T171100Z
LAST-MODIFIED:20250214T171102Z
UID:10012907-1844416800-1844417100@colorcomunitaria.org
SUMMARY:Boletín informativo OLA
DESCRIPTION:
URL:https://colorcomunitaria.org/evento/boletin-informativo-ola-2/2028-06-12/
END:VEVENT
BEGIN:VEVENT
DTSTART;TZID=Europe/Madrid:20280612T100500
DTEND;TZID=Europe/Madrid:20280612T103500
DTSTAMP:20260423T231952
CREATED:20250121T155655Z
LAST-MODIFIED:20250214T162406Z
UID:10008719-1844417100-1844418900@colorcomunitaria.org
SUMMARY:Cerca de tu casa
DESCRIPTION:Magacín sobre lo que pasa en Palma Palmilla. Colabora Junta de Distrito 5 Palma Palmilla del Ayuntamiento  de Málaga.
URL:https://colorcomunitaria.org/evento/cerca-de-tu-casa/2028-06-12/
CATEGORIES:Palma Palmilla
ATTACH;FMTTYPE=image/jpeg:https://colorcomunitaria.org/wp-content/uploads/2025/01/imagen-loco-cdtc-cerca-de-tu-casa-grande-e1737380447434.jpg
END:VEVENT
BEGIN:VEVENT
DTSTART;TZID=Europe/Madrid:20280612T103500
DTEND;TZID=Europe/Madrid:20280612T104500
DTSTAMP:20260423T231952
CREATED:20250216T172831Z
LAST-MODIFIED:20250216T173153Z
UID:10015968-1844418900-1844419500@colorcomunitaria.org
SUMMARY:Cerca de tu casa - Málaga
DESCRIPTION:
URL:https://colorcomunitaria.org/evento/cerca-de-tu-casa-edicion-malaga/2028-06-12/
END:VEVENT
BEGIN:VEVENT
DTSTART;TZID=Europe/Madrid:20280612T110500
DTEND;TZID=Europe/Madrid:20280612T120000
DTSTAMP:20260423T231952
CREATED:20250214T162718Z
LAST-MODIFIED:20250214T162800Z
UID:10009855-1844420700-1844424000@colorcomunitaria.org
SUMMARY:Con otra mirada
DESCRIPTION:
URL:https://colorcomunitaria.org/evento/con-otra-mirada/2028-06-12/
END:VEVENT
BEGIN:VEVENT
DTSTART;TZID=Europe/Madrid:20280612T120500
DTEND;TZID=Europe/Madrid:20280612T130000
DTSTAMP:20260423T231952
CREATED:20250214T165409Z
LAST-MODIFIED:20250214T165409Z
UID:10010116-1844424300-1844427600@colorcomunitaria.org
SUMMARY:Sabemos lo que queremos
DESCRIPTION:
URL:https://colorcomunitaria.org/evento/sabemos-lo-que-queremos/2028-06-12/
END:VEVENT
BEGIN:VEVENT
DTSTART;TZID=Europe/Madrid:20280612T130000
DTEND;TZID=Europe/Madrid:20280612T133000
DTSTAMP:20260423T231952
CREATED:20250216T173355Z
LAST-MODIFIED:20250216T173355Z
UID:10018240-1844427600-1844429400@colorcomunitaria.org
SUMMARY:Informativo De este a Oeste (OLA)
DESCRIPTION:
URL:https://colorcomunitaria.org/evento/informativo-de-este-a-oeste-ola-2/2028-06-12/
END:VEVENT
BEGIN:VEVENT
DTSTART;TZID=Europe/Madrid:20280612T160000
DTEND;TZID=Europe/Madrid:20280612T163000
DTSTAMP:20260423T231952
CREATED:20250216T173851Z
LAST-MODIFIED:20250216T173851Z
UID:10024994-1844438400-1844440200@colorcomunitaria.org
SUMMARY:Cerca de tu casa (R)
DESCRIPTION:Magacín sobre lo que pasa en Palma Palmilla. Colabora Junta de Distrito 5 Palma Palmilla del Ayuntamiento  de Málaga.
URL:https://colorcomunitaria.org/evento/cerca-de-tu-casa-r/2028-06-12/
CATEGORIES:Palma Palmilla
ATTACH;FMTTYPE=image/jpeg:https://colorcomunitaria.org/wp-content/uploads/2025/01/imagen-loco-cdtc-cerca-de-tu-casa-grande-e1737380447434.jpg
END:VEVENT
BEGIN:VEVENT
DTSTART;TZID=Europe/Madrid:20280612T163000
DTEND;TZID=Europe/Madrid:20280612T170000
DTSTAMP:20260423T231952
CREATED:20250216T174046Z
LAST-MODIFIED:20250216T174046Z
UID:10027629-1844440200-1844442000@colorcomunitaria.org
SUMMARY:Aprender con onda
DESCRIPTION:
URL:https://colorcomunitaria.org/evento/aprender-con-onda/2028-06-12/
END:VEVENT
BEGIN:VEVENT
DTSTART;TZID=Europe/Madrid:20280612T170500
DTEND;TZID=Europe/Madrid:20280612T180000
DTSTAMP:20260423T231952
CREATED:20250216T181824Z
LAST-MODIFIED:20250216T181824Z
UID:10038322-1844442300-1844445600@colorcomunitaria.org
SUMMARY:Emociones con esencia
DESCRIPTION:
URL:https://colorcomunitaria.org/evento/emociones-con-esencia/2028-06-12/
END:VEVENT
BEGIN:VEVENT
DTSTART;TZID=Europe/Madrid:20280612T190000
DTEND;TZID=Europe/Madrid:20280612T200000
DTSTAMP:20260423T231952
CREATED:20250216T173505Z
LAST-MODIFIED:20250216T173505Z
UID:10020336-1844449200-1844452800@colorcomunitaria.org
SUMMARY:Informativo De este a Oeste (OLA)
DESCRIPTION:
URL:https://colorcomunitaria.org/evento/informativo-de-este-a-oeste-ola-3/2028-06-12/
END:VEVENT
BEGIN:VEVENT
DTSTART;TZID=Europe/Madrid:20280612T200500
DTEND;TZID=Europe/Madrid:20280612T210000
DTSTAMP:20260423T231952
CREATED:20250216T182912Z
LAST-MODIFIED:20250216T183417Z
UID:10039140-1844453100-1844456400@colorcomunitaria.org
SUMMARY:Este libro está muy vivo (R)
DESCRIPTION:
URL:https://colorcomunitaria.org/evento/este-libro-esta-muy-vivo/2028-06-12/
END:VEVENT
BEGIN:VEVENT
DTSTART;TZID=Europe/Madrid:20280612T210000
DTEND;TZID=Europe/Madrid:20280612T220000
DTSTAMP:20260423T231952
CREATED:20250216T184112Z
LAST-MODIFIED:20250216T184112Z
UID:10039356-1844456400-1844460000@colorcomunitaria.org
SUMMARY:De mil colores
DESCRIPTION:
URL:https://colorcomunitaria.org/evento/de-mil-colores/2028-06-12/
END:VEVENT
BEGIN:VEVENT
DTSTART;TZID=Europe/Madrid:20280613T010000
DTEND;TZID=Europe/Madrid:20280613T020000
DTSTAMP:20260423T231952
CREATED:20250216T173544Z
LAST-MODIFIED:20250216T173632Z
UID:10022433-1844470800-1844474400@colorcomunitaria.org
SUMMARY:Informativo De este a Oeste (OLA) (R)
DESCRIPTION:
URL:https://colorcomunitaria.org/evento/informativo-de-este-a-oeste-ola-r/2028-06-13/
END:VEVENT
BEGIN:VEVENT
DTSTART;TZID=Europe/Madrid:20280613T020000
DTEND;TZID=Europe/Madrid:20280613T040000
DTSTAMP:20260423T231952
CREATED:20250216T180923Z
LAST-MODIFIED:20250216T181107Z
UID:10034005-1844474400-1844481600@colorcomunitaria.org
SUMMARY:Radioteatros Bicicleta Atómica y Audiodrama Colectivo
DESCRIPTION:
URL:https://colorcomunitaria.org/evento/radioteatros-bicicleta-atomica-y-audiodrama-colectivo/2028-06-13/
END:VEVENT
BEGIN:VEVENT
DTSTART;TZID=Europe/Madrid:20280613T083000
DTEND;TZID=Europe/Madrid:20280613T100000
DTSTAMP:20260423T231952
CREATED:20250214T170834Z
LAST-MODIFIED:20250214T170906Z
UID:10011595-1844497800-1844503200@colorcomunitaria.org
SUMMARY:Informativo De este a Oeste (OLA)
DESCRIPTION:
URL:https://colorcomunitaria.org/evento/informativo-de-este-a-oeste-ola/2028-06-13/
END:VEVENT
BEGIN:VEVENT
DTSTART;TZID=Europe/Madrid:20280613T100000
DTEND;TZID=Europe/Madrid:20280613T100500
DTSTAMP:20260423T231952
CREATED:20250214T171100Z
LAST-MODIFIED:20250214T171102Z
UID:10012908-1844503200-1844503500@colorcomunitaria.org
SUMMARY:Boletín informativo OLA
DESCRIPTION:
URL:https://colorcomunitaria.org/evento/boletin-informativo-ola-2/2028-06-13/
END:VEVENT
BEGIN:VEVENT
DTSTART;TZID=Europe/Madrid:20280613T100500
DTEND;TZID=Europe/Madrid:20280613T103500
DTSTAMP:20260423T231952
CREATED:20250121T155655Z
LAST-MODIFIED:20250214T162406Z
UID:10008720-1844503500-1844505300@colorcomunitaria.org
SUMMARY:Cerca de tu casa
DESCRIPTION:Magacín sobre lo que pasa en Palma Palmilla. Colabora Junta de Distrito 5 Palma Palmilla del Ayuntamiento  de Málaga.
URL:https://colorcomunitaria.org/evento/cerca-de-tu-casa/2028-06-13/
CATEGORIES:Palma Palmilla
ATTACH;FMTTYPE=image/jpeg:https://colorcomunitaria.org/wp-content/uploads/2025/01/imagen-loco-cdtc-cerca-de-tu-casa-grande-e1737380447434.jpg
END:VEVENT
BEGIN:VEVENT
DTSTART;TZID=Europe/Madrid:20280613T103500
DTEND;TZID=Europe/Madrid:20280613T104500
DTSTAMP:20260423T231952
CREATED:20250216T172831Z
LAST-MODIFIED:20250216T173153Z
UID:10015969-1844505300-1844505900@colorcomunitaria.org
SUMMARY:Cerca de tu casa - Málaga
DESCRIPTION:
URL:https://colorcomunitaria.org/evento/cerca-de-tu-casa-edicion-malaga/2028-06-13/
END:VEVENT
BEGIN:VEVENT
DTSTART;TZID=Europe/Madrid:20280613T110500
DTEND;TZID=Europe/Madrid:20280613T123000
DTSTAMP:20260423T231952
CREATED:20250214T165815Z
LAST-MODIFIED:20250214T165815Z
UID:10010378-1844507100-1844512200@colorcomunitaria.org
SUMMARY:La voz de vida
DESCRIPTION:
URL:https://colorcomunitaria.org/evento/la-voz-de-vida/2028-06-13/
END:VEVENT
BEGIN:VEVENT
DTSTART;TZID=Europe/Madrid:20280613T130000
DTEND;TZID=Europe/Madrid:20280613T133000
DTSTAMP:20260423T231952
CREATED:20250216T173355Z
LAST-MODIFIED:20250216T173355Z
UID:10018241-1844514000-1844515800@colorcomunitaria.org
SUMMARY:Informativo De este a Oeste (OLA)
DESCRIPTION:
URL:https://colorcomunitaria.org/evento/informativo-de-este-a-oeste-ola-2/2028-06-13/
END:VEVENT
BEGIN:VEVENT
DTSTART;TZID=Europe/Madrid:20280613T160000
DTEND;TZID=Europe/Madrid:20280613T163000
DTSTAMP:20260423T231952
CREATED:20250216T173851Z
LAST-MODIFIED:20250216T173851Z
UID:10024995-1844524800-1844526600@colorcomunitaria.org
SUMMARY:Cerca de tu casa (R)
DESCRIPTION:Magacín sobre lo que pasa en Palma Palmilla. Colabora Junta de Distrito 5 Palma Palmilla del Ayuntamiento  de Málaga.
URL:https://colorcomunitaria.org/evento/cerca-de-tu-casa-r/2028-06-13/
CATEGORIES:Palma Palmilla
ATTACH;FMTTYPE=image/jpeg:https://colorcomunitaria.org/wp-content/uploads/2025/01/imagen-loco-cdtc-cerca-de-tu-casa-grande-e1737380447434.jpg
END:VEVENT
BEGIN:VEVENT
DTSTART;TZID=Europe/Madrid:20280613T163000
DTEND;TZID=Europe/Madrid:20280613T170000
DTSTAMP:20260423T231952
CREATED:20250216T174046Z
LAST-MODIFIED:20250216T174046Z
UID:10027630-1844526600-1844528400@colorcomunitaria.org
SUMMARY:Aprender con onda
DESCRIPTION:
URL:https://colorcomunitaria.org/evento/aprender-con-onda/2028-06-13/
END:VEVENT
BEGIN:VEVENT
DTSTART;TZID=Europe/Madrid:20280613T190000
DTEND;TZID=Europe/Madrid:20280613T200000
DTSTAMP:20260423T231952
CREATED:20250216T173505Z
LAST-MODIFIED:20250216T173505Z
UID:10020337-1844535600-1844539200@colorcomunitaria.org
SUMMARY:Informativo De este a Oeste (OLA)
DESCRIPTION:
URL:https://colorcomunitaria.org/evento/informativo-de-este-a-oeste-ola-3/2028-06-13/
END:VEVENT
BEGIN:VEVENT
DTSTART;TZID=Europe/Madrid:20280613T200000
DTEND;TZID=Europe/Madrid:20280613T210000
DTSTAMP:20260423T231952
CREATED:20250214T172034Z
LAST-MODIFIED:20250214T172034Z
UID:10013788-1844539200-1844542800@colorcomunitaria.org
SUMMARY:Puentes
DESCRIPTION:
URL:https://colorcomunitaria.org/evento/puentes/2028-06-13/
END:VEVENT
BEGIN:VEVENT
DTSTART;TZID=Europe/Madrid:20280613T210000
DTEND;TZID=Europe/Madrid:20280613T220000
DTSTAMP:20260423T231952
CREATED:20250214T172202Z
LAST-MODIFIED:20250214T172202Z
UID:10014050-1844542800-1844546400@colorcomunitaria.org
SUMMARY:La voz de los sin voz
DESCRIPTION:
URL:https://colorcomunitaria.org/evento/la-voz-de-los-sin-voz/2028-06-13/
END:VEVENT
BEGIN:VEVENT
DTSTART;TZID=Europe/Madrid:20280614T000000
DTEND;TZID=Europe/Madrid:20280614T010000
DTSTAMP:20260423T231952
CREATED:20250216T175230Z
LAST-MODIFIED:20250216T175230Z
UID:10029551-1844553600-1844557200@colorcomunitaria.org
SUMMARY:Málaga Cultura Viva (R)
DESCRIPTION:
URL:https://colorcomunitaria.org/evento/malaga-cultura-viva-r/2028-06-14/
END:VEVENT
BEGIN:VEVENT
DTSTART;TZID=Europe/Madrid:20280614T010000
DTEND;TZID=Europe/Madrid:20280614T020000
DTSTAMP:20260423T231952
CREATED:20250216T173544Z
LAST-MODIFIED:20250216T173632Z
UID:10022434-1844557200-1844560800@colorcomunitaria.org
SUMMARY:Informativo De este a Oeste (OLA) (R)
DESCRIPTION:
URL:https://colorcomunitaria.org/evento/informativo-de-este-a-oeste-ola-r/2028-06-14/
END:VEVENT
END:VCALENDAR