BEGIN:VCALENDAR
VERSION:2.0
PRODID:-//Color comunitaria - ECPv6.9.1//NONSGML v1.0//EN
CALSCALE:GREGORIAN
METHOD:PUBLISH
X-WR-CALNAME:Color comunitaria
X-ORIGINAL-URL:https://colorcomunitaria.org
X-WR-CALDESC:Eventos para Color comunitaria
REFRESH-INTERVAL;VALUE=DURATION:PT1H
X-Robots-Tag:noindex
X-PUBLISHED-TTL:PT1H
BEGIN:VTIMEZONE
TZID:Europe/Madrid
BEGIN:DAYLIGHT
TZOFFSETFROM:+0100
TZOFFSETTO:+0200
TZNAME:CEST
DTSTART:20280326T010000
END:DAYLIGHT
BEGIN:STANDARD
TZOFFSETFROM:+0200
TZOFFSETTO:+0100
TZNAME:CET
DTSTART:20281029T010000
END:STANDARD
END:VTIMEZONE
BEGIN:VEVENT
DTSTART;TZID=Europe/Madrid:20280814T010000
DTEND;TZID=Europe/Madrid:20280814T020000
DTSTAMP:20260425T180144
CREATED:20250216T173544Z
LAST-MODIFIED:20250216T173632Z
UID:10022468-1849827600-1849831200@colorcomunitaria.org
SUMMARY:Informativo De este a Oeste (OLA) (R)
DESCRIPTION:
URL:https://colorcomunitaria.org/evento/informativo-de-este-a-oeste-ola-r/2028-08-14/
END:VEVENT
BEGIN:VEVENT
DTSTART;TZID=Europe/Madrid:20280814T020000
DTEND;TZID=Europe/Madrid:20280814T040000
DTSTAMP:20260425T180144
CREATED:20250216T180923Z
LAST-MODIFIED:20250216T181107Z
UID:10034067-1849831200-1849838400@colorcomunitaria.org
SUMMARY:Radioteatros Bicicleta Atómica y Audiodrama Colectivo
DESCRIPTION:
URL:https://colorcomunitaria.org/evento/radioteatros-bicicleta-atomica-y-audiodrama-colectivo/2028-08-14/
END:VEVENT
BEGIN:VEVENT
DTSTART;TZID=Europe/Madrid:20280814T083000
DTEND;TZID=Europe/Madrid:20280814T100000
DTSTAMP:20260425T180144
CREATED:20250214T170834Z
LAST-MODIFIED:20250214T170906Z
UID:10011639-1849854600-1849860000@colorcomunitaria.org
SUMMARY:Informativo De este a Oeste (OLA)
DESCRIPTION:
URL:https://colorcomunitaria.org/evento/informativo-de-este-a-oeste-ola/2028-08-14/
END:VEVENT
BEGIN:VEVENT
DTSTART;TZID=Europe/Madrid:20280814T100000
DTEND;TZID=Europe/Madrid:20280814T100500
DTSTAMP:20260425T180144
CREATED:20250214T171100Z
LAST-MODIFIED:20250214T171102Z
UID:10012952-1849860000-1849860300@colorcomunitaria.org
SUMMARY:Boletín informativo OLA
DESCRIPTION:
URL:https://colorcomunitaria.org/evento/boletin-informativo-ola-2/2028-08-14/
END:VEVENT
BEGIN:VEVENT
DTSTART;TZID=Europe/Madrid:20280814T100500
DTEND;TZID=Europe/Madrid:20280814T103500
DTSTAMP:20260425T180144
CREATED:20250121T155655Z
LAST-MODIFIED:20250214T162406Z
UID:10008764-1849860300-1849862100@colorcomunitaria.org
SUMMARY:Cerca de tu casa
DESCRIPTION:Magacín sobre lo que pasa en Palma Palmilla. Colabora Junta de Distrito 5 Palma Palmilla del Ayuntamiento  de Málaga.
URL:https://colorcomunitaria.org/evento/cerca-de-tu-casa/2028-08-14/
CATEGORIES:Palma Palmilla
ATTACH;FMTTYPE=image/jpeg:https://colorcomunitaria.org/wp-content/uploads/2025/01/imagen-loco-cdtc-cerca-de-tu-casa-grande-e1737380447434.jpg
END:VEVENT
BEGIN:VEVENT
DTSTART;TZID=Europe/Madrid:20280814T103500
DTEND;TZID=Europe/Madrid:20280814T104500
DTSTAMP:20260425T180144
CREATED:20250216T172831Z
LAST-MODIFIED:20250216T173153Z
UID:10016022-1849862100-1849862700@colorcomunitaria.org
SUMMARY:Cerca de tu casa - Málaga
DESCRIPTION:
URL:https://colorcomunitaria.org/evento/cerca-de-tu-casa-edicion-malaga/2028-08-14/
END:VEVENT
BEGIN:VEVENT
DTSTART;TZID=Europe/Madrid:20280814T110500
DTEND;TZID=Europe/Madrid:20280814T120000
DTSTAMP:20260425T180144
CREATED:20250214T162718Z
LAST-MODIFIED:20250214T162800Z
UID:10009864-1849863900-1849867200@colorcomunitaria.org
SUMMARY:Con otra mirada
DESCRIPTION:
URL:https://colorcomunitaria.org/evento/con-otra-mirada/2028-08-14/
END:VEVENT
BEGIN:VEVENT
DTSTART;TZID=Europe/Madrid:20280814T120500
DTEND;TZID=Europe/Madrid:20280814T130000
DTSTAMP:20260425T180144
CREATED:20250214T165409Z
LAST-MODIFIED:20250214T165409Z
UID:10010125-1849867500-1849870800@colorcomunitaria.org
SUMMARY:Sabemos lo que queremos
DESCRIPTION:
URL:https://colorcomunitaria.org/evento/sabemos-lo-que-queremos/2028-08-14/
END:VEVENT
BEGIN:VEVENT
DTSTART;TZID=Europe/Madrid:20280814T130000
DTEND;TZID=Europe/Madrid:20280814T133000
DTSTAMP:20260425T180144
CREATED:20250216T173355Z
LAST-MODIFIED:20250216T173355Z
UID:10018276-1849870800-1849872600@colorcomunitaria.org
SUMMARY:Informativo De este a Oeste (OLA)
DESCRIPTION:
URL:https://colorcomunitaria.org/evento/informativo-de-este-a-oeste-ola-2/2028-08-14/
END:VEVENT
BEGIN:VEVENT
DTSTART;TZID=Europe/Madrid:20280814T160000
DTEND;TZID=Europe/Madrid:20280814T163000
DTSTAMP:20260425T180144
CREATED:20250216T173851Z
LAST-MODIFIED:20250216T173851Z
UID:10025039-1849881600-1849883400@colorcomunitaria.org
SUMMARY:Cerca de tu casa (R)
DESCRIPTION:Magacín sobre lo que pasa en Palma Palmilla. Colabora Junta de Distrito 5 Palma Palmilla del Ayuntamiento  de Málaga.
URL:https://colorcomunitaria.org/evento/cerca-de-tu-casa-r/2028-08-14/
CATEGORIES:Palma Palmilla
ATTACH;FMTTYPE=image/jpeg:https://colorcomunitaria.org/wp-content/uploads/2025/01/imagen-loco-cdtc-cerca-de-tu-casa-grande-e1737380447434.jpg
END:VEVENT
BEGIN:VEVENT
DTSTART;TZID=Europe/Madrid:20280814T163000
DTEND;TZID=Europe/Madrid:20280814T170000
DTSTAMP:20260425T180144
CREATED:20250216T174046Z
LAST-MODIFIED:20250216T174046Z
UID:10027674-1849883400-1849885200@colorcomunitaria.org
SUMMARY:Aprender con onda
DESCRIPTION:
URL:https://colorcomunitaria.org/evento/aprender-con-onda/2028-08-14/
END:VEVENT
BEGIN:VEVENT
DTSTART;TZID=Europe/Madrid:20280814T190000
DTEND;TZID=Europe/Madrid:20280814T200000
DTSTAMP:20260425T180144
CREATED:20250216T173505Z
LAST-MODIFIED:20250216T173505Z
UID:10020372-1849892400-1849896000@colorcomunitaria.org
SUMMARY:Informativo De este a Oeste (OLA)
DESCRIPTION:
URL:https://colorcomunitaria.org/evento/informativo-de-este-a-oeste-ola-3/2028-08-14/
END:VEVENT
BEGIN:VEVENT
DTSTART;TZID=Europe/Madrid:20280814T210000
DTEND;TZID=Europe/Madrid:20280814T220000
DTSTAMP:20260425T180144
CREATED:20250216T184112Z
LAST-MODIFIED:20250216T184112Z
UID:10039365-1849899600-1849903200@colorcomunitaria.org
SUMMARY:De mil colores
DESCRIPTION:
URL:https://colorcomunitaria.org/evento/de-mil-colores/2028-08-14/
END:VEVENT
BEGIN:VEVENT
DTSTART;TZID=Europe/Madrid:20280815T010000
DTEND;TZID=Europe/Madrid:20280815T020000
DTSTAMP:20260425T180144
CREATED:20250216T173544Z
LAST-MODIFIED:20250216T173632Z
UID:10022469-1849914000-1849917600@colorcomunitaria.org
SUMMARY:Informativo De este a Oeste (OLA) (R)
DESCRIPTION:
URL:https://colorcomunitaria.org/evento/informativo-de-este-a-oeste-ola-r/2028-08-15/
END:VEVENT
BEGIN:VEVENT
DTSTART;TZID=Europe/Madrid:20280815T020000
DTEND;TZID=Europe/Madrid:20280815T040000
DTSTAMP:20260425T180144
CREATED:20250216T180923Z
LAST-MODIFIED:20250216T181107Z
UID:10034068-1849917600-1849924800@colorcomunitaria.org
SUMMARY:Radioteatros Bicicleta Atómica y Audiodrama Colectivo
DESCRIPTION:
URL:https://colorcomunitaria.org/evento/radioteatros-bicicleta-atomica-y-audiodrama-colectivo/2028-08-15/
END:VEVENT
BEGIN:VEVENT
DTSTART;TZID=Europe/Madrid:20280815T083000
DTEND;TZID=Europe/Madrid:20280815T100000
DTSTAMP:20260425T180144
CREATED:20250214T170834Z
LAST-MODIFIED:20250214T170906Z
UID:10011640-1849941000-1849946400@colorcomunitaria.org
SUMMARY:Informativo De este a Oeste (OLA)
DESCRIPTION:
URL:https://colorcomunitaria.org/evento/informativo-de-este-a-oeste-ola/2028-08-15/
END:VEVENT
BEGIN:VEVENT
DTSTART;TZID=Europe/Madrid:20280815T100000
DTEND;TZID=Europe/Madrid:20280815T100500
DTSTAMP:20260425T180144
CREATED:20250214T171100Z
LAST-MODIFIED:20250214T171102Z
UID:10012953-1849946400-1849946700@colorcomunitaria.org
SUMMARY:Boletín informativo OLA
DESCRIPTION:
URL:https://colorcomunitaria.org/evento/boletin-informativo-ola-2/2028-08-15/
END:VEVENT
BEGIN:VEVENT
DTSTART;TZID=Europe/Madrid:20280815T100500
DTEND;TZID=Europe/Madrid:20280815T103500
DTSTAMP:20260425T180144
CREATED:20250121T155655Z
LAST-MODIFIED:20250214T162406Z
UID:10008765-1849946700-1849948500@colorcomunitaria.org
SUMMARY:Cerca de tu casa
DESCRIPTION:Magacín sobre lo que pasa en Palma Palmilla. Colabora Junta de Distrito 5 Palma Palmilla del Ayuntamiento  de Málaga.
URL:https://colorcomunitaria.org/evento/cerca-de-tu-casa/2028-08-15/
CATEGORIES:Palma Palmilla
ATTACH;FMTTYPE=image/jpeg:https://colorcomunitaria.org/wp-content/uploads/2025/01/imagen-loco-cdtc-cerca-de-tu-casa-grande-e1737380447434.jpg
END:VEVENT
BEGIN:VEVENT
DTSTART;TZID=Europe/Madrid:20280815T103500
DTEND;TZID=Europe/Madrid:20280815T104500
DTSTAMP:20260425T180144
CREATED:20250216T172831Z
LAST-MODIFIED:20250216T173153Z
UID:10016023-1849948500-1849949100@colorcomunitaria.org
SUMMARY:Cerca de tu casa - Málaga
DESCRIPTION:
URL:https://colorcomunitaria.org/evento/cerca-de-tu-casa-edicion-malaga/2028-08-15/
END:VEVENT
BEGIN:VEVENT
DTSTART;TZID=Europe/Madrid:20280815T110500
DTEND;TZID=Europe/Madrid:20280815T123000
DTSTAMP:20260425T180144
CREATED:20250214T165815Z
LAST-MODIFIED:20250214T165815Z
UID:10010387-1849950300-1849955400@colorcomunitaria.org
SUMMARY:La voz de vida
DESCRIPTION:
URL:https://colorcomunitaria.org/evento/la-voz-de-vida/2028-08-15/
END:VEVENT
BEGIN:VEVENT
DTSTART;TZID=Europe/Madrid:20280815T130000
DTEND;TZID=Europe/Madrid:20280815T133000
DTSTAMP:20260425T180144
CREATED:20250216T173355Z
LAST-MODIFIED:20250216T173355Z
UID:10018277-1849957200-1849959000@colorcomunitaria.org
SUMMARY:Informativo De este a Oeste (OLA)
DESCRIPTION:
URL:https://colorcomunitaria.org/evento/informativo-de-este-a-oeste-ola-2/2028-08-15/
END:VEVENT
BEGIN:VEVENT
DTSTART;TZID=Europe/Madrid:20280815T160000
DTEND;TZID=Europe/Madrid:20280815T163000
DTSTAMP:20260425T180144
CREATED:20250216T173851Z
LAST-MODIFIED:20250216T173851Z
UID:10025040-1849968000-1849969800@colorcomunitaria.org
SUMMARY:Cerca de tu casa (R)
DESCRIPTION:Magacín sobre lo que pasa en Palma Palmilla. Colabora Junta de Distrito 5 Palma Palmilla del Ayuntamiento  de Málaga.
URL:https://colorcomunitaria.org/evento/cerca-de-tu-casa-r/2028-08-15/
CATEGORIES:Palma Palmilla
ATTACH;FMTTYPE=image/jpeg:https://colorcomunitaria.org/wp-content/uploads/2025/01/imagen-loco-cdtc-cerca-de-tu-casa-grande-e1737380447434.jpg
END:VEVENT
BEGIN:VEVENT
DTSTART;TZID=Europe/Madrid:20280815T163000
DTEND;TZID=Europe/Madrid:20280815T170000
DTSTAMP:20260425T180144
CREATED:20250216T174046Z
LAST-MODIFIED:20250216T174046Z
UID:10027675-1849969800-1849971600@colorcomunitaria.org
SUMMARY:Aprender con onda
DESCRIPTION:
URL:https://colorcomunitaria.org/evento/aprender-con-onda/2028-08-15/
END:VEVENT
BEGIN:VEVENT
DTSTART;TZID=Europe/Madrid:20280815T190000
DTEND;TZID=Europe/Madrid:20280815T200000
DTSTAMP:20260425T180144
CREATED:20250216T173505Z
LAST-MODIFIED:20250216T173505Z
UID:10020373-1849978800-1849982400@colorcomunitaria.org
SUMMARY:Informativo De este a Oeste (OLA)
DESCRIPTION:
URL:https://colorcomunitaria.org/evento/informativo-de-este-a-oeste-ola-3/2028-08-15/
END:VEVENT
BEGIN:VEVENT
DTSTART;TZID=Europe/Madrid:20280815T200000
DTEND;TZID=Europe/Madrid:20280815T210000
DTSTAMP:20260425T180144
CREATED:20250214T172034Z
LAST-MODIFIED:20250214T172034Z
UID:10013797-1849982400-1849986000@colorcomunitaria.org
SUMMARY:Puentes
DESCRIPTION:
URL:https://colorcomunitaria.org/evento/puentes/2028-08-15/
END:VEVENT
BEGIN:VEVENT
DTSTART;TZID=Europe/Madrid:20280815T210000
DTEND;TZID=Europe/Madrid:20280815T220000
DTSTAMP:20260425T180144
CREATED:20250214T172202Z
LAST-MODIFIED:20250214T172202Z
UID:10014059-1849986000-1849989600@colorcomunitaria.org
SUMMARY:La voz de los sin voz
DESCRIPTION:
URL:https://colorcomunitaria.org/evento/la-voz-de-los-sin-voz/2028-08-15/
END:VEVENT
BEGIN:VEVENT
DTSTART;TZID=Europe/Madrid:20280816T000000
DTEND;TZID=Europe/Madrid:20280816T010000
DTSTAMP:20260425T180144
CREATED:20250216T175230Z
LAST-MODIFIED:20250216T175230Z
UID:10029560-1849996800-1850000400@colorcomunitaria.org
SUMMARY:Málaga Cultura Viva (R)
DESCRIPTION:
URL:https://colorcomunitaria.org/evento/malaga-cultura-viva-r/2028-08-16/
END:VEVENT
BEGIN:VEVENT
DTSTART;TZID=Europe/Madrid:20280816T010000
DTEND;TZID=Europe/Madrid:20280816T020000
DTSTAMP:20260425T180144
CREATED:20250216T173544Z
LAST-MODIFIED:20250216T173632Z
UID:10022470-1850000400-1850004000@colorcomunitaria.org
SUMMARY:Informativo De este a Oeste (OLA) (R)
DESCRIPTION:
URL:https://colorcomunitaria.org/evento/informativo-de-este-a-oeste-ola-r/2028-08-16/
END:VEVENT
BEGIN:VEVENT
DTSTART;TZID=Europe/Madrid:20280816T020000
DTEND;TZID=Europe/Madrid:20280816T040000
DTSTAMP:20260425T180144
CREATED:20250216T180923Z
LAST-MODIFIED:20250216T181107Z
UID:10034069-1850004000-1850011200@colorcomunitaria.org
SUMMARY:Radioteatros Bicicleta Atómica y Audiodrama Colectivo
DESCRIPTION:
URL:https://colorcomunitaria.org/evento/radioteatros-bicicleta-atomica-y-audiodrama-colectivo/2028-08-16/
END:VEVENT
BEGIN:VEVENT
DTSTART;TZID=Europe/Madrid:20280816T083000
DTEND;TZID=Europe/Madrid:20280816T100000
DTSTAMP:20260425T180144
CREATED:20250214T170834Z
LAST-MODIFIED:20250214T170906Z
UID:10011641-1850027400-1850032800@colorcomunitaria.org
SUMMARY:Informativo De este a Oeste (OLA)
DESCRIPTION:
URL:https://colorcomunitaria.org/evento/informativo-de-este-a-oeste-ola/2028-08-16/
END:VEVENT
END:VCALENDAR