BEGIN:VCALENDAR
VERSION:2.0
PRODID:-//Color comunitaria - ECPv6.9.1//NONSGML v1.0//EN
CALSCALE:GREGORIAN
METHOD:PUBLISH
X-WR-CALNAME:Color comunitaria
X-ORIGINAL-URL:https://colorcomunitaria.org
X-WR-CALDESC:Eventos para Color comunitaria
REFRESH-INTERVAL;VALUE=DURATION:PT1H
X-Robots-Tag:noindex
X-PUBLISHED-TTL:PT1H
BEGIN:VTIMEZONE
TZID:Europe/Madrid
BEGIN:DAYLIGHT
TZOFFSETFROM:+0100
TZOFFSETTO:+0200
TZNAME:CEST
DTSTART:20280326T010000
END:DAYLIGHT
BEGIN:STANDARD
TZOFFSETFROM:+0200
TZOFFSETTO:+0100
TZNAME:CET
DTSTART:20281029T010000
END:STANDARD
END:VTIMEZONE
BEGIN:VEVENT
DTSTART;TZID=Europe/Madrid:20280828T010000
DTEND;TZID=Europe/Madrid:20280828T020000
DTSTAMP:20260426T012213
CREATED:20250216T173544Z
LAST-MODIFIED:20250216T173632Z
UID:10022476-1851037200-1851040800@colorcomunitaria.org
SUMMARY:Informativo De este a Oeste (OLA) (R)
DESCRIPTION:
URL:https://colorcomunitaria.org/evento/informativo-de-este-a-oeste-ola-r/2028-08-28/
END:VEVENT
BEGIN:VEVENT
DTSTART;TZID=Europe/Madrid:20280828T020000
DTEND;TZID=Europe/Madrid:20280828T040000
DTSTAMP:20260426T012213
CREATED:20250216T180923Z
LAST-MODIFIED:20250216T181107Z
UID:10034081-1851040800-1851048000@colorcomunitaria.org
SUMMARY:Radioteatros Bicicleta Atómica y Audiodrama Colectivo
DESCRIPTION:
URL:https://colorcomunitaria.org/evento/radioteatros-bicicleta-atomica-y-audiodrama-colectivo/2028-08-28/
END:VEVENT
BEGIN:VEVENT
DTSTART;TZID=Europe/Madrid:20280828T083000
DTEND;TZID=Europe/Madrid:20280828T100000
DTSTAMP:20260426T012213
CREATED:20250214T170834Z
LAST-MODIFIED:20250214T170906Z
UID:10011649-1851064200-1851069600@colorcomunitaria.org
SUMMARY:Informativo De este a Oeste (OLA)
DESCRIPTION:
URL:https://colorcomunitaria.org/evento/informativo-de-este-a-oeste-ola/2028-08-28/
END:VEVENT
BEGIN:VEVENT
DTSTART;TZID=Europe/Madrid:20280828T100000
DTEND;TZID=Europe/Madrid:20280828T100500
DTSTAMP:20260426T012213
CREATED:20250214T171100Z
LAST-MODIFIED:20250214T171102Z
UID:10012962-1851069600-1851069900@colorcomunitaria.org
SUMMARY:Boletín informativo OLA
DESCRIPTION:
URL:https://colorcomunitaria.org/evento/boletin-informativo-ola-2/2028-08-28/
END:VEVENT
BEGIN:VEVENT
DTSTART;TZID=Europe/Madrid:20280828T100500
DTEND;TZID=Europe/Madrid:20280828T103500
DTSTAMP:20260426T012213
CREATED:20250121T155655Z
LAST-MODIFIED:20250214T162406Z
UID:10008774-1851069900-1851071700@colorcomunitaria.org
SUMMARY:Cerca de tu casa
DESCRIPTION:Magacín sobre lo que pasa en Palma Palmilla. Colabora Junta de Distrito 5 Palma Palmilla del Ayuntamiento  de Málaga.
URL:https://colorcomunitaria.org/evento/cerca-de-tu-casa/2028-08-28/
CATEGORIES:Palma Palmilla
ATTACH;FMTTYPE=image/jpeg:https://colorcomunitaria.org/wp-content/uploads/2025/01/imagen-loco-cdtc-cerca-de-tu-casa-grande-e1737380447434.jpg
END:VEVENT
BEGIN:VEVENT
DTSTART;TZID=Europe/Madrid:20280828T103500
DTEND;TZID=Europe/Madrid:20280828T104500
DTSTAMP:20260426T012214
CREATED:20250216T172831Z
LAST-MODIFIED:20250216T173153Z
UID:10016034-1851071700-1851072300@colorcomunitaria.org
SUMMARY:Cerca de tu casa - Málaga
DESCRIPTION:
URL:https://colorcomunitaria.org/evento/cerca-de-tu-casa-edicion-malaga/2028-08-28/
END:VEVENT
BEGIN:VEVENT
DTSTART;TZID=Europe/Madrid:20280828T110500
DTEND;TZID=Europe/Madrid:20280828T120000
DTSTAMP:20260426T012214
CREATED:20250214T162718Z
LAST-MODIFIED:20250214T162800Z
UID:10009866-1851073500-1851076800@colorcomunitaria.org
SUMMARY:Con otra mirada
DESCRIPTION:
URL:https://colorcomunitaria.org/evento/con-otra-mirada/2028-08-28/
END:VEVENT
BEGIN:VEVENT
DTSTART;TZID=Europe/Madrid:20280828T120500
DTEND;TZID=Europe/Madrid:20280828T130000
DTSTAMP:20260426T012214
CREATED:20250214T165409Z
LAST-MODIFIED:20250214T165409Z
UID:10010127-1851077100-1851080400@colorcomunitaria.org
SUMMARY:Sabemos lo que queremos
DESCRIPTION:
URL:https://colorcomunitaria.org/evento/sabemos-lo-que-queremos/2028-08-28/
END:VEVENT
BEGIN:VEVENT
DTSTART;TZID=Europe/Madrid:20280828T130000
DTEND;TZID=Europe/Madrid:20280828T133000
DTSTAMP:20260426T012214
CREATED:20250216T173355Z
LAST-MODIFIED:20250216T173355Z
UID:10018284-1851080400-1851082200@colorcomunitaria.org
SUMMARY:Informativo De este a Oeste (OLA)
DESCRIPTION:
URL:https://colorcomunitaria.org/evento/informativo-de-este-a-oeste-ola-2/2028-08-28/
END:VEVENT
BEGIN:VEVENT
DTSTART;TZID=Europe/Madrid:20280828T160000
DTEND;TZID=Europe/Madrid:20280828T163000
DTSTAMP:20260426T012214
CREATED:20250216T173851Z
LAST-MODIFIED:20250216T173851Z
UID:10025049-1851091200-1851093000@colorcomunitaria.org
SUMMARY:Cerca de tu casa (R)
DESCRIPTION:Magacín sobre lo que pasa en Palma Palmilla. Colabora Junta de Distrito 5 Palma Palmilla del Ayuntamiento  de Málaga.
URL:https://colorcomunitaria.org/evento/cerca-de-tu-casa-r/2028-08-28/
CATEGORIES:Palma Palmilla
ATTACH;FMTTYPE=image/jpeg:https://colorcomunitaria.org/wp-content/uploads/2025/01/imagen-loco-cdtc-cerca-de-tu-casa-grande-e1737380447434.jpg
END:VEVENT
BEGIN:VEVENT
DTSTART;TZID=Europe/Madrid:20280828T163000
DTEND;TZID=Europe/Madrid:20280828T170000
DTSTAMP:20260426T012214
CREATED:20250216T174046Z
LAST-MODIFIED:20250216T174046Z
UID:10027684-1851093000-1851094800@colorcomunitaria.org
SUMMARY:Aprender con onda
DESCRIPTION:
URL:https://colorcomunitaria.org/evento/aprender-con-onda/2028-08-28/
END:VEVENT
BEGIN:VEVENT
DTSTART;TZID=Europe/Madrid:20280828T190000
DTEND;TZID=Europe/Madrid:20280828T200000
DTSTAMP:20260426T012214
CREATED:20250216T173505Z
LAST-MODIFIED:20250216T173505Z
UID:10020380-1851102000-1851105600@colorcomunitaria.org
SUMMARY:Informativo De este a Oeste (OLA)
DESCRIPTION:
URL:https://colorcomunitaria.org/evento/informativo-de-este-a-oeste-ola-3/2028-08-28/
END:VEVENT
BEGIN:VEVENT
DTSTART;TZID=Europe/Madrid:20280828T210000
DTEND;TZID=Europe/Madrid:20280828T220000
DTSTAMP:20260426T012214
CREATED:20250216T184112Z
LAST-MODIFIED:20250216T184112Z
UID:10039367-1851109200-1851112800@colorcomunitaria.org
SUMMARY:De mil colores
DESCRIPTION:
URL:https://colorcomunitaria.org/evento/de-mil-colores/2028-08-28/
END:VEVENT
BEGIN:VEVENT
DTSTART;TZID=Europe/Madrid:20280829T010000
DTEND;TZID=Europe/Madrid:20280829T020000
DTSTAMP:20260426T012214
CREATED:20250216T173544Z
LAST-MODIFIED:20250216T173632Z
UID:10022477-1851123600-1851127200@colorcomunitaria.org
SUMMARY:Informativo De este a Oeste (OLA) (R)
DESCRIPTION:
URL:https://colorcomunitaria.org/evento/informativo-de-este-a-oeste-ola-r/2028-08-29/
END:VEVENT
BEGIN:VEVENT
DTSTART;TZID=Europe/Madrid:20280829T020000
DTEND;TZID=Europe/Madrid:20280829T040000
DTSTAMP:20260426T012214
CREATED:20250216T180923Z
LAST-MODIFIED:20250216T181107Z
UID:10034082-1851127200-1851134400@colorcomunitaria.org
SUMMARY:Radioteatros Bicicleta Atómica y Audiodrama Colectivo
DESCRIPTION:
URL:https://colorcomunitaria.org/evento/radioteatros-bicicleta-atomica-y-audiodrama-colectivo/2028-08-29/
END:VEVENT
BEGIN:VEVENT
DTSTART;TZID=Europe/Madrid:20280829T083000
DTEND;TZID=Europe/Madrid:20280829T100000
DTSTAMP:20260426T012214
CREATED:20250214T170834Z
LAST-MODIFIED:20250214T170906Z
UID:10011650-1851150600-1851156000@colorcomunitaria.org
SUMMARY:Informativo De este a Oeste (OLA)
DESCRIPTION:
URL:https://colorcomunitaria.org/evento/informativo-de-este-a-oeste-ola/2028-08-29/
END:VEVENT
BEGIN:VEVENT
DTSTART;TZID=Europe/Madrid:20280829T100000
DTEND;TZID=Europe/Madrid:20280829T100500
DTSTAMP:20260426T012214
CREATED:20250214T171100Z
LAST-MODIFIED:20250214T171102Z
UID:10012963-1851156000-1851156300@colorcomunitaria.org
SUMMARY:Boletín informativo OLA
DESCRIPTION:
URL:https://colorcomunitaria.org/evento/boletin-informativo-ola-2/2028-08-29/
END:VEVENT
BEGIN:VEVENT
DTSTART;TZID=Europe/Madrid:20280829T100500
DTEND;TZID=Europe/Madrid:20280829T103500
DTSTAMP:20260426T012214
CREATED:20250121T155655Z
LAST-MODIFIED:20250214T162406Z
UID:10008775-1851156300-1851158100@colorcomunitaria.org
SUMMARY:Cerca de tu casa
DESCRIPTION:Magacín sobre lo que pasa en Palma Palmilla. Colabora Junta de Distrito 5 Palma Palmilla del Ayuntamiento  de Málaga.
URL:https://colorcomunitaria.org/evento/cerca-de-tu-casa/2028-08-29/
CATEGORIES:Palma Palmilla
ATTACH;FMTTYPE=image/jpeg:https://colorcomunitaria.org/wp-content/uploads/2025/01/imagen-loco-cdtc-cerca-de-tu-casa-grande-e1737380447434.jpg
END:VEVENT
BEGIN:VEVENT
DTSTART;TZID=Europe/Madrid:20280829T103500
DTEND;TZID=Europe/Madrid:20280829T104500
DTSTAMP:20260426T012214
CREATED:20250216T172831Z
LAST-MODIFIED:20250216T173153Z
UID:10016035-1851158100-1851158700@colorcomunitaria.org
SUMMARY:Cerca de tu casa - Málaga
DESCRIPTION:
URL:https://colorcomunitaria.org/evento/cerca-de-tu-casa-edicion-malaga/2028-08-29/
END:VEVENT
BEGIN:VEVENT
DTSTART;TZID=Europe/Madrid:20280829T110500
DTEND;TZID=Europe/Madrid:20280829T123000
DTSTAMP:20260426T012214
CREATED:20250214T165815Z
LAST-MODIFIED:20250214T165815Z
UID:10010389-1851159900-1851165000@colorcomunitaria.org
SUMMARY:La voz de vida
DESCRIPTION:
URL:https://colorcomunitaria.org/evento/la-voz-de-vida/2028-08-29/
END:VEVENT
BEGIN:VEVENT
DTSTART;TZID=Europe/Madrid:20280829T130000
DTEND;TZID=Europe/Madrid:20280829T133000
DTSTAMP:20260426T012214
CREATED:20250216T173355Z
LAST-MODIFIED:20250216T173355Z
UID:10018285-1851166800-1851168600@colorcomunitaria.org
SUMMARY:Informativo De este a Oeste (OLA)
DESCRIPTION:
URL:https://colorcomunitaria.org/evento/informativo-de-este-a-oeste-ola-2/2028-08-29/
END:VEVENT
BEGIN:VEVENT
DTSTART;TZID=Europe/Madrid:20280829T160000
DTEND;TZID=Europe/Madrid:20280829T163000
DTSTAMP:20260426T012214
CREATED:20250216T173851Z
LAST-MODIFIED:20250216T173851Z
UID:10025050-1851177600-1851179400@colorcomunitaria.org
SUMMARY:Cerca de tu casa (R)
DESCRIPTION:Magacín sobre lo que pasa en Palma Palmilla. Colabora Junta de Distrito 5 Palma Palmilla del Ayuntamiento  de Málaga.
URL:https://colorcomunitaria.org/evento/cerca-de-tu-casa-r/2028-08-29/
CATEGORIES:Palma Palmilla
ATTACH;FMTTYPE=image/jpeg:https://colorcomunitaria.org/wp-content/uploads/2025/01/imagen-loco-cdtc-cerca-de-tu-casa-grande-e1737380447434.jpg
END:VEVENT
BEGIN:VEVENT
DTSTART;TZID=Europe/Madrid:20280829T163000
DTEND;TZID=Europe/Madrid:20280829T170000
DTSTAMP:20260426T012214
CREATED:20250216T174046Z
LAST-MODIFIED:20250216T174046Z
UID:10027685-1851179400-1851181200@colorcomunitaria.org
SUMMARY:Aprender con onda
DESCRIPTION:
URL:https://colorcomunitaria.org/evento/aprender-con-onda/2028-08-29/
END:VEVENT
BEGIN:VEVENT
DTSTART;TZID=Europe/Madrid:20280829T190000
DTEND;TZID=Europe/Madrid:20280829T200000
DTSTAMP:20260426T012214
CREATED:20250216T173505Z
LAST-MODIFIED:20250216T173505Z
UID:10020381-1851188400-1851192000@colorcomunitaria.org
SUMMARY:Informativo De este a Oeste (OLA)
DESCRIPTION:
URL:https://colorcomunitaria.org/evento/informativo-de-este-a-oeste-ola-3/2028-08-29/
END:VEVENT
BEGIN:VEVENT
DTSTART;TZID=Europe/Madrid:20280829T200000
DTEND;TZID=Europe/Madrid:20280829T210000
DTSTAMP:20260426T012214
CREATED:20250214T172034Z
LAST-MODIFIED:20250214T172034Z
UID:10013799-1851192000-1851195600@colorcomunitaria.org
SUMMARY:Puentes
DESCRIPTION:
URL:https://colorcomunitaria.org/evento/puentes/2028-08-29/
END:VEVENT
BEGIN:VEVENT
DTSTART;TZID=Europe/Madrid:20280829T210000
DTEND;TZID=Europe/Madrid:20280829T220000
DTSTAMP:20260426T012214
CREATED:20250214T172202Z
LAST-MODIFIED:20250214T172202Z
UID:10014061-1851195600-1851199200@colorcomunitaria.org
SUMMARY:La voz de los sin voz
DESCRIPTION:
URL:https://colorcomunitaria.org/evento/la-voz-de-los-sin-voz/2028-08-29/
END:VEVENT
BEGIN:VEVENT
DTSTART;TZID=Europe/Madrid:20280830T000000
DTEND;TZID=Europe/Madrid:20280830T010000
DTSTAMP:20260426T012214
CREATED:20250216T175230Z
LAST-MODIFIED:20250216T175230Z
UID:10029562-1851206400-1851210000@colorcomunitaria.org
SUMMARY:Málaga Cultura Viva (R)
DESCRIPTION:
URL:https://colorcomunitaria.org/evento/malaga-cultura-viva-r/2028-08-30/
END:VEVENT
BEGIN:VEVENT
DTSTART;TZID=Europe/Madrid:20280830T010000
DTEND;TZID=Europe/Madrid:20280830T020000
DTSTAMP:20260426T012214
CREATED:20250216T173544Z
LAST-MODIFIED:20250216T173632Z
UID:10022478-1851210000-1851213600@colorcomunitaria.org
SUMMARY:Informativo De este a Oeste (OLA) (R)
DESCRIPTION:
URL:https://colorcomunitaria.org/evento/informativo-de-este-a-oeste-ola-r/2028-08-30/
END:VEVENT
BEGIN:VEVENT
DTSTART;TZID=Europe/Madrid:20280830T020000
DTEND;TZID=Europe/Madrid:20280830T040000
DTSTAMP:20260426T012214
CREATED:20250216T180923Z
LAST-MODIFIED:20250216T181107Z
UID:10034083-1851213600-1851220800@colorcomunitaria.org
SUMMARY:Radioteatros Bicicleta Atómica y Audiodrama Colectivo
DESCRIPTION:
URL:https://colorcomunitaria.org/evento/radioteatros-bicicleta-atomica-y-audiodrama-colectivo/2028-08-30/
END:VEVENT
BEGIN:VEVENT
DTSTART;TZID=Europe/Madrid:20280830T083000
DTEND;TZID=Europe/Madrid:20280830T100000
DTSTAMP:20260426T012214
CREATED:20250214T170834Z
LAST-MODIFIED:20250214T170906Z
UID:10011651-1851237000-1851242400@colorcomunitaria.org
SUMMARY:Informativo De este a Oeste (OLA)
DESCRIPTION:
URL:https://colorcomunitaria.org/evento/informativo-de-este-a-oeste-ola/2028-08-30/
END:VEVENT
END:VCALENDAR